Workbook
Name \0: #N/A
Name \e: #N/A
Name __SL6: #N/A
Name _expansao: #REF!
Name _expansao: #REF!
Name _expansao___0: #REF!
Name _expansao___0: #REF!
Name _expansao___2: #REF!
Name _expansao___2: #REF!
Name _MAT1: [1]EQUIP!#REF!
Name _MAT1: [1]EQUIP!#REF!
Name _SL6: #N/A
Name A: [2]MDO!#REF!
Name A: [2]MDO!#REF!
Name AAA: #REF!
Name AAA: #REF!
Name ABRE_COLUNAS: #N/A
Name ACERTA_TITULOS: #N/A
Name ar: #REF!
Name ar: #REF!
Name Área_impressão_IM: #REF!
Name Área_impressão_IM: #REF!
Name ASP: #REF!
Name ASP: #REF!
Name BANCO: #REF!
Name BANCO: #REF!
Name BANCO1: #REF!
Name BANCO1: #REF!
Name BANCO2: #REF!
Name BANCO2: #REF!
Name BANCO3: #REF!
Name BANCO3: #REF!
Name BANCO4: #REF!
Name BANCO4: #REF!
Name bdi: #REF!
Name bdi: #REF!
Name BLOCO_BEEP: #N/A
Name BLOCO_IMPRESSAO: #N/A
Name BLOCO_SI: #N/A
Name bocais: #REF!
Name bocais: #REF!
Name bocais___0: #REF!
Name bocais___0: #REF!
Name bocais___2: #REF!
Name bocais___2: #REF!
Name Bomba_putzmeister: #REF!
Name Bomba_putzmeister: #REF!
Name calculo_de_hf: #REF!
Name calculo_de_hf: #REF!
Name calculo_de_hf___0: #REF!
Name calculo_de_hf___0: #REF!
Name calculo_de_hf___2: #REF!
Name calculo_de_hf___2: #REF!
Name Capa1: #REF!
Name Capa1: #REF!
Name CODIGO: #REF!
Name CODIGO: #REF!
Name Código: #REF!
Name Código: #REF!
Name COMEÇO: '[3]CAPA -1'!#REF!

Sheet BDI
A1: CALCULO BDI
A2: Item do BDI | B2: 1º Quartil | C2: Médio | D2: 3º Quartil | E2: Valores Propostos
A3: Administração Central | B3: 0.038 | C3: 0.0401 | D3: 0.0467 | E3: 0.0401
A4: Seguro e Garantia | B4: 0.0032 | C4: 0.004 | D4: 0.0074 | E4: 0.004
A5: Risco | B5: 0.005 | C5: 0.0056 | D5: 0.0097 | E5: 0.0056
A6: Despesas Financeiras | B6: 0.0102 | C6: 0.0111 | D6: 0.0121 | E6: 0.0111
A7: Lucro | B7: 0.0664 | C7: 0.073 | D7: 0.0869 | E7: 0.073
A8: I1: PIS e COFINS | E8: 0.0365
A9: I2: ISSQN (conforme legislação municipal) | E9: 0.03
A10: I3: Cov. Prev. S/ Rec. Bruta (Lei 13161/15 - Desoneração) | E10: 0.045
A12: BDI - SEM Desoneração da folha de pagamento | E12: =((1+E3+E4+E5)*(1+E6)*(1+E7)/(1-E8-E9))-1 -> 0.21995752
A15: BDI - SEM Desoneração = [(1+AC+S+G+R)X(1+DF)X(1+L)/(1-I1-I2)]-1
A18: RUA VITORIO GADOTTI - ESTAÇÃO - ASCURRA/SC
B23: ______________________________________
B24: POSIÇÃO ENGENHARIA CIVIL EIRELI ME
A25: . | B25: ENG. CIVIL SANDRO PISA
C26: CREA/SC 046.722-4

Sheet COMP-S.DES
A1: COMPOSIÇÃO DE PREÇOS
A3: COMP 01 | B3: =[11]MEM!$F$105 -> Caixa coletora | G3: Unidade: und
B4: Para Tubo de 40 DN
A5: Referência: | B5: Elaborado pelo projetista
A6: Tipo | B6: Código | C6: Descrição | D6: Unidade | E6: Quantidade | F6: Preço unit | G6: Total (R$)
A8: SINAPI | B8: 88316 | C8: SERVENTE COM ENCARGOS COMPLEMENTARES | D8: H | E8: 3.8 | F8: 25.74 | G8: =ROUND(F8*E8,2) -> 97.81
A9: SINAPI | B9: 88309 | C9: PEDREIRO COM ENCARGOS COMPLEMENTARES | D9: H | E9: 3.5 | F9: 35.59 | G9: =ROUND(F9*E9,2) -> 124.57
A10: SINAPI | B10: 100341 | C10: FORMA MANUSEÁVEIS PARA PAREDES DE CONCRETOS MOLDADAS IN LOCO | D10: m² | E10: 0.28 | F10: 53.97 | G10: =ROUND(F10*E10,2) -> 15.11
A11: SINAPI | B11: 92769 | C11: ARMAÇÃO DE LAGE DE ESTRUTURA | D11: KG | E11: 5.69 | F11: 13.2 | G11: =ROUND(F11*E11,2) -> 75.11
A12: SINAPI | B12: 94965 | C12: CONCRETO FCK=25MPA, VIRADO EM BETONEIRA, SEM LANCAMENTO | D12: m³ | E12: 0.14 | F12: 598.29 | G12: =ROUND(F12*E12,2) -> 83.76
A13: SINAPI | B13: 7258 | C13: ALVENARIA EM TIJOLO CERAMICO MACICO 5X10X20 cm (ESPESSURA 10CM) | D13: UND | E13: 443 | F13: 0.73 | G13: =ROUND(F13*E13,2) -> 323.39
A14: SINAPI | B14: 100480 | C14: ARGAMASSA TRACO 1:3 (CIMENTO E AREIA), PREPARO MANUAL, INCLUSO ADITIVO IMPERMEABILIZANTE | D14: m³ | E14: 0.09 | F14: 924.56 | G14: =ROUND(F14*E14,2) -> 83.21
C16: TOTAL GERAL | G16: =SUM(G8:G15) -> 802.96
A18: COMP 02 | B18: =[11]MEM!$F$105 -> Caixa coletora | G18: Unidade: und
B19: Para Tubo de 100 DN
A20: Referência: | B20: Elaborado pelo projetista
A21: Tipo | B21: Código | C21: Descrição | D21: Unidade | E21: Quantidade | F21: Preço unit | G21: Total (R$)
A23: SINAPI | B23: 88316 | C23: SERVENTE COM ENCARGOS COMPLEMENTARES | D23: H | E23: 6.01 | F23: 25.74 | G23: =ROUND(F23*E23,2) -> 154.7
A24: SINAPI | B24: 88309 | C24: PEDREIRO COM ENCARGOS COMPLEMENTARES | D24: H | E24: 5.92 | F24: 35.59 | G24: =ROUND(F24*E24,2) -> 210.69
A25: SINAPI | B25: 96616 | C25: LASTRO CONCRETO MAGRO | D25: m³ | E25: 0.17 | F25: 971.75 | G25: =ROUND(F25*E25,2) -> 165.2
A26: SINAPI | B26: 100341 | C26: FORMA MANUSEÁVEIS PARA PAREDES DE CONCRETOS MOLDADAS IN LOCO | D26: m² | E26: 1 | F26: 53.97 | G26: =ROUND(F26*E26,2) -> 53.97
A27: SINAPI | B27: 97090 | C27: ARMAÇÃO EM TELA DE ACO Q-138 | D27: m² | E27: 1 | F27: 13.2 | G27: =ROUND(F27*E27,2) -> 13.2
A28: SINAPI | B28: 94965 | C28: CONCRETO FCK=25MPA, VIRADO EM BETONEIRA, SEM LANCAMENTO | D28: m³ | E28: 0.1 | F28: 598.29 | G28: =ROUND(F28*E28,2) -> 59.83
A29: SINAPI | B29: 7258 | C29: ALVENARIA EM TIJOLO CERAMICO MACICO 5X10X20 cm (ESPESSURA 10CM) | D29: UND | E29: 584 | F29: 0.73 | G29: =ROUND(F29*E29,2) -> 426.32
A30: SINAPI | B30: 100480 | C30: ARGAMASSA TRACO 1:3 (CIMENTO E AREIA), PREPARO MANUAL, INCLUSO ADITIVO IMPERMEABILIZANTE | D30: m³ | E30: 0.19 | F30: 924.56 | G30: =ROUND(F30*E30,2) -> 175.67
A31: SINAPI | B31: 43440 | C31: CONJUNTO PRE MOLADO COMPOSTO POR GRELHA / CONCRETO | D31: UND | E31: 1 | F31: 495.17 | G31: =ROUND(F31*E31,2) -> 495.17
C33: TOTAL GERAL | G33: =SUM(G23:G32) -> 1754.75
A34: COMP 03 | B34: =[11]MEM!$F$105 -> Caixa coletora | G34: Unidade: und
B35: Para Tubo de 30 DN
A36: Referência: | B36: Elaborado pelo projetista
A37: Tipo | B37: Código | C37: Descrição | D37: Unidade | E37: Quantidade | F37: Preço unit | G37: Total (R$)
A39: SINAPI | B39: 88316 | C39: SERVENTE COM ENCARGOS COMPLEMENTARES | D39: H | E39: 3.5 | F39: 25.74 | G39: =ROUND(F39*E39,2) -> 90.09
A40: SINAPI | B40: 88309 | C40: PEDREIRO COM ENCARGOS COMPLEMENTARES | D40: H | E40: 3.3 | F40: 35.59 | G40: =ROUND(F40*E40,2) -> 117.45
A41: SINAPI | B41: 100341 | C41: FORMA MANUSEÁVEIS PARA PAREDES DE CONCRETOS MOLDADAS IN LOCO | D41: m² | E41: 0.2 | F41: 53.97 | G41: =ROUND(F41*E41,2) -> 10.79
A42: SINAPI | B42: 92769 | C42: ARMAÇÃO DE LAGE DE ESTRUTURA | D42: KG | E42: 4.92 | F42: 13.2 | G42: =ROUND(F42*E42,2) -> 64.94
A43: SINAPI | B43: 94965 | C43: CONCRETO FCK=25MPA, VIRADO EM BETONEIRA, SEM LANCAMENTO | D43: m³ | E43: 0.1 | F43: 598.29 | G43: =ROUND(F43*E43,2) -> 59.83
A44: SINAPI | B44: 7258 | C44: ALVENARIA EM TIJOLO CERAMICO MACICO 5X10X20 cm (ESPESSURA 10CM) | D44: UND | E44: 281 | F44: 0.73 | G44: =ROUND(F44*E44,2) -> 205.13
A45: SINAPI | B45: 100480 | C45: ARGAMASSA TRACO 1:3 (CIMENTO E AREIA), PREPARO MANUAL, INCLUSO ADITIVO IMPERMEABILIZANTE | D45: m³ | E45: 0.06 | F45: 924.56 | G45: =ROUND(F45*E45,2) -> 55.47
C47: TOTAL GERAL | G47: =SUM(G39:G46) -> 603.7
A49: COMP 04 | B49: =[11]MEM!$F$105 -> Caixa coletora | G49: Unidade: und
...

Sheet MEM. CALC.
A2: MEMORIAL DE CÁLCULOS
A4: Obra: | B4: PAVIMENTAÇÃO EM CONCRETO, DRENAGEM E SINALIZAÇÃO VIÁRIA
A5: Rua: | B5: RUA VITORIO GADOTTI - BAIRRO ESTAÇÃO - ASCURRA/SC
A6: Data: | B6: 45933
A7: BDI: | B7: 0.22
A9: Item | B9: Serviço
A12: 1 | B12: SERVIÇOS PRELIMINARES
A13: 1.1 | B13: Placa de obra em chapa de aço galvanizado
B14: 1,20 x 2,40 = 2,88 m²
A16: 2 | B16: TERRAPLENAGEM
A17: 2.1 | B17: Escavação mecânica de mat. 1ª categoria
B18: Conforme planilha de terraplenagem = 12 m³
A19: 2.2 | B19: Carga, transporte e descarga
A20: 2.2.1 | B20: Carga, manobra e descarga de materiais
B21: 12 m³
A22: 2.2.2 | B22: Transporte com caminhão basculante 14 m³ (da obra para o bota fora, local especificado pela Prefeitura)
B23: 500 metros longe da Rua
B24: 12 - 9,5 = 2,5 m³xkm
A25: 2.2.3 | B25: Reaterro mecanizado de vala com escavedeira hidráulica
B26: conforme planilha de terraplenagem = 9,5 m³
A28: 3 | B28: DRENAGEM
A29: 3.1 | B29: Escavação mecânica de vala com profundidade de até 1,5 m, com retro escavadeira
B30: Conforme planilha de dimensionamento e drenagem = 515.06 m³
A31: 3.2 | B31: Carga, manobra e descarga de areia, brita com caminhão basculante até 6 m³
B32: Conforme planilha de dimensionamento e drenagem = 404.28 m³
A33: 3.3 | B33: Transporte com caminhão basculante 14 m³, em via pavimentada, DMT até 30 Km
B34: (da obra para o bota fora, local especificado pela Prefeitura)
B35: 110.78 x 1 = 110.78 m3xkm
A36: 3.4 | B36: Fornecimento e assentamento de tubo de concreto, inclusive rejunte com argamassa 1:3 cimento e areia
A37: 3.4.1 | B37: ASSENTAMENTO DE TUBO DE CONCRETO PARA REDES COLETORAS DE ÁGUAS PLUVIAIS, DIÂMETRO DE 300 MM, JUNTA RÍGIDA, INSTALADO EM LOCAL COM BAIXO NÍVEL DE INTERFERÊNCIAS
B38: Contagem conforme projeto / planilha de dimensionamento = 14,00 m
A39: 3.4.1.1 | B39: TUBO CONCRETO ARMADO, CLASSE PA-1, PB, DN 300 MM, PARA AGUAS PLUVIAIS (NBR 8890)
B40: Contagem conforme projeto / planilha de dimensionamento = 14,00 m
A41: 3.4.2 | B41: ASSENTAMENTO DE TUBO DE CONCRETO PARA REDES COLETORAS DE ÁGUAS PLUVIAIS, DIÂMETRO DE 400 MM, JUNTA RÍGIDA, INSTALADO EM LOCAL COM BAIXO NÍVEL DE INTERFERÊNCIAS
B42: Contagem conforme projeto / planilha de dimensionamento = 71,00 m
A43: 3.4.2.1 | B43: TUBO CONCRETO ARMADO, CLASSE PA-1, PB, DN 400 MM, PARA AGUAS PLUVIAIS (NBR 8890)
B44: Contagem conforme projeto / planilha de dimensionamento = 71,00 m
A45: 3.4.3 | B45: ASSENTAMENTO DE TUBO DE CONCRETO PARA REDES COLETORAS DE ÁGUAS PLUVIAIS, DIÂMETRO DE 500 MM, JUNTA RÍGIDA, INSTALADO EM LOCAL COM BAIXO NÍVEL DE INTERFERÊNCIAS
B46: Contagem conforme projeto / planilha de dimensionamento = 45,00 m
A47: 3.4.3.1 | B47: TUBO CONCRETO ARMADO, CLASSE PA-1, PB, DN 500 MM, PARA AGUAS PLUVIAIS (NBR 8890)
...

Sheet ORC-S.DES
A2: PLANILHA ORÇAMENTÁRIA (SEM DESONERAÇÃO)
A4: Obra: | B4: PAVIMENTAÇÃO EM PAVER, DRENAGEM E SINALIZAÇÃO VIÁRIA
A5: Rua: | B5: RUA VITORIO GADOTTI - BAIRRO ESTAÇÃO - ASCURRA/SC
A6: Data: | B6: 46041
A7: BDI: | B7: 0.22
A9: Item | B9: Código | C9: Serviço | D9: Fonte | E9: Unidade | F9: Quantidade | G9: Preço unit | H9: Preço unit | I9: Total (R$) | L9: 1.22
G10: s/ BDI | H10: c/ BDI
A12: 1 | C12: SERVIÇOS PRELIMINARES
A13: 1.1 | B13: 103689 | C13: Placa de obra em chapa de aço galvanizado (dim. 1,2 x 2,4 m) | D13: SINAPI | E13: m² | F13: 2.88 | G13: 469.32 | H13: =ROUND(G13*$L$9,2) -> 572.57 | I13: =ROUND(F13*H13,2) -> 1649
C14: TOTAL DO ITEM | I14: =SUM(I13:I13) -> 1649
A16: 2 | C16: TERRAPLENAGEM
A17: 2.1 | B17: 101116 | C17: Escavação mecânica de mat. 1ª categoria | D17: SINAPI | E17: m³ | F17: 12 | G17: 2.6 | H17: =ROUND(G17*$L$9,2) -> 3.17 | I17: =ROUND(F17*H17,2) -> 38.04
A18: 2.2 | C18: Carga, transporte e descarga
A19: 2.2.1 | B19: 100980 | C19: Carga, manobra e descarga de materiais | D19: SINAPI | E19: m³ | F19: 12 | G19: 6.87 | H19: =ROUND(G19*$L$9,2) -> 8.38 | I19: =ROUND(F19*H19,2) -> 100.56
A20: 2.2.2 | B20: 95876 | C20: Transporte com caminhão basculante 14 m³ (da obra para o bota fora) | D20: SINAPI | E20: m³ x km | F20: 2.5 | G20: 2.29 | H20: =ROUND(G20*$L$9,2) -> 2.79 | I20: =ROUND(F20*H20,2) -> 6.98
A21: 2.2.3 | B21: 96385 | C21: Execução e compactação de aterro | D21: SINAPI | E21: m³ | F21: 9.5 | G21: 13.86 | H21: =ROUND(G21*$L$9,2) -> 16.91 | I21: =ROUND(F21*H21,2) -> 160.65
A22: 2.2.4 | B22: 90781 | C22: Topografo com encargos complementares | D22: SINAPI | E22: H | F22: 16 | G22: 33.26 | H22: =ROUND(G22*$L$9,2) -> 40.58 | I22: =ROUND(F22*H22,2) -> 649.28
C23: TOTAL DO ITEM | I23: =SUM(I17:I22) -> 955.51
A25: 3 | C25: DRENAGEM
A26: 3.1 | B26: 90106 | C26: Escavação mecânica de vala com profundidade de até 1,5 m, com retroescavadeira | D26: SINAPI | E26: m³ | F26: 515.06 | G26: 9.16 | H26: =ROUND(G26*$L$9,2) -> 11.18 | I26: =ROUND(F26*H26,2) -> 5758.37
A27: 3.2 | B27: 100980 | C27: Carga, manobra e descarga de materiais com caminhão basculante | D27: SINAPI | E27: m³ | F27: 404.28 | G27: 6.87 | H27: =ROUND(G27*$L$9,2) -> 8.38 | I27: =ROUND(F27*H27,2) -> 3387.87
A28: 3.3 | B28: 95876 | C28: Transporte com caminhão basculante 14 m³ (da obra para o bota fora) | D28: SINAPI | E28: m³ x km | F28: 110.78 | G28: 2.29 | H28: =ROUND(G28*$L$9,2) -> 2.79 | I28: =ROUND(F28*H28,2) -> 309.08
A29: 3.4 | C29: Fornecimento e assentamento de tubo de concreto, inclusive rejunte com argamassa 1:3 cimento e areia - tubo 300mm
A30: 3.4.1.1 | B30: 92808 | C30: Assentamento de Tubo de Concreto para Redes Coletoras de Águas Pluviais, Diâmetro de 300mm, Junta Rígida, Instalado em local com baixo nível de interferências (não inclui fornecimento. | D30: SINAPI | E30: m | F30: 14 | G30: 27.69 | H30: =ROUND(G30*$L$9,2) -> 33.78 | I30: =ROUND(F30*H30,2) -> 472.92
A31: 3.4.2 | B31: 37450 | C31: Tubo de Concreto, Classe PA-1, DN 300 mm, para Águas Pluviais (NBR 8890) | D31: SINAPI | E31: m | F31: 14 | G31: 38.67 | H31: =ROUND(G31*$L$9,2) -> 47.18 | I31: =ROUND(F31*H31,2) -> 660.52
A32: 3.5 | C32: Caixa Coletora e Caixa de Ligação
A33: 3.5.1 | B33: COMP. 03 | C33: Caixa Coletora - Tubo DN 30 cm | D33: COMP.1 | E33: und | F33: 5 | G33: ='COMP-S.DES'!G47 -> 603.7 | H33: =ROUND(G33*$L$9,2) -> 736.51 | I33: =ROUND(F33*H33,2) -> 3682.55
A34: 3.4 | C34: Fornecimento e assentamento de tubo de concreto, inclusive rejunte com argamassa 1:3 cimento e areia - tubo 400mm
A35: 3.4.2 | B35: 92809 | C35: Assentamento de Tubo de Concreto para Redes Coletoras de Águas Pluviais, Diâmetro de 400mm, Junta Rígida, Instalado em local com baixo nível de interferências (não inclui fornecimento. | D35: SINAPI | E35: m | F35: 71 | G35: 38.55 | H35: =ROUND(G35*$L$9,2) -> 47.03 | I35: =ROUND(F35*H35,2) -> 3339.13
A36: 3.4.2.1 | B36: 37451 | C36: Tubo de Concreto, Classe PA-1, DN 400 mm, para Águas Pluviais (NBR 8890) | D36: SINAPI | E36: m | F36: 71 | G36: 53.99 | H36: =ROUND(G36*$L$9,2) -> 65.87 | I36: =ROUND(F36*H36,2) -> 4676.77
A37: 3.5 | C37: Caixa Coletora e Caixa de Ligação
A38: 3.5.2 | B38: COMP. 01 | C38: Caixa Coletora - Tubo DN 40 cm | D38: COMP.1 | E38: und | F38: 3 | G38: ='COMP-S.DES'!G16 -> 802.96 | H38: =ROUND(G38*$L$9,2) -> 979.61 | I38: =ROUND(F38*H38,2) -> 2938.83
A39: 3.4 | C39: Fornecimento e assentamento de tubo de concreto, inclusive rejunte com argamassa 1:3 cimento e areia - tubo 500mm
A40: 3.4.3 | B40: 92822 | C40: Assentamento de Tubo de Concreto para Redes Coletoras de Águas Pluviais, Diâmetro de 500mm, Junta Rígida, Instalado em local com baixo nível de interferências (não inclui fornecimento. | D40: SINAPI | E40: m | F40: 47 | G40: 54.93 | H40: =ROUND(G40*$L$9,2) -> 67.01 | I40: =ROUND(F40*H40,2) -> 3149.47
A41: 3.4.3.1 | B41: 37452 | C41: Tubo de Concreto, Classe PA-1, DN 500 mm, para Águas Pluviais (NBR 8890) | D41: SINAPI | E41: m | F41: 47 | G41: 78.47 | H41: =ROUND(G41*$L$9,2) -> 95.73 | I41: =ROUND(F41*H41,2) -> 4499.31
A42: 3.5 | C42: Caixa Coletora e Caixa de Ligação
A43: 3.5.3 | B43: COMP. 04 | C43: Caixa Coletora - Tubo DN 50 cm | D43: COMP.1 | E43: und | F43: 3 | G43: ='COMP-S.DES'!G62 -> 978.4 | H43: =ROUND(G43*$L$9,2) -> 1193.65 | I43: =ROUND(F43*H43,2) -> 3580.95
A44: 3.6 | C44: Berço a Tubulação
A45: 3.6.1 | B45: 6212 | C45: Tábua de madeira não aparelhada de 2,5 cm x 30 cm, Pinus ou equivalente | D45: SINAPI | E45: m | F45: 195 | G45: 12 | H45: =ROUND(G45*$L$9,2) -> 14.64 | I45: =ROUND(F45*H45,2) -> 2854.8
A46: 3.6.2 | B46: 4721 | C46: Lastro de Brita | D46: SINAPI | E46: m³ | F46: 26.16 | G46: 111.91 | H46: =ROUND(G46*$L$9,2) -> 136.53 | I46: =ROUND(F46*H46,2) -> 3571.62
...

Sheet CRO-S.DES
A2: CRONOGRAMA FÍSICO FINANCEIRO
A4: ='ORC-S.DES'!A4 -> Obra: | B4: ='ORC-S.DES'!B4 -> PAVIMENTAÇÃO EM PAVER, DRENAGEM E SINALIZAÇÃO VIÁRIA
A5: ='ORC-S.DES'!A5 -> Rua: | B5: ='ORC-S.DES'!B5 -> RUA VITORIO GADOTTI - BAIRRO ESTAÇÃO - ASCURRA/SC
A6: ='ORC-S.DES'!A6 -> Data: | B6: ='ORC-S.DES'!B6 -> 46041
A7: ='ORC-S.DES'!A7 -> BDI: | B7: ='ORC-S.DES'!B7 -> 0.22
A10: Item | B10: Descrição so Serviços | C10: Valor dos Serviço | D10: Peso ( % ) | E10: MÊS 01 | I10: MÊS 02 | M10: MÊS 03
E11: Simples ( % ) | F11: Acumulado ( % ) | G11: Simples ( R$ ) | H11: Acumulado ( R$ ) | I11: Simples ( % ) | J11: Acumulado ( % ) | K11: Simples ( R$ ) | L11: Acumulado ( R$ ) | M11: Simples ( % ) | N11: Acumulado ( % ) | O11: Simples ( R$ ) | P11: Acumulado ( R$ )
A13: ='ORC-S.DES'!A12 -> 1 | B13: ='ORC-S.DES'!C12 -> SERVIÇOS PRELIMINARES | C13: ='ORC-S.DES'!I14 -> 1649 | D13: =C13/$C$19 -> 0.0084249485 | E13: 1 | F13: =E13 -> 1 | G13: =C13*E13 -> 1649 | H13: =G13 -> 1649 | I13: 0 | J13: 1 | K13: =C13*I13 -> 0 | L13: =H13+K13 -> 1649 | M13: 0 | N13: =J13+M13 -> 1 | O13: =C13*M13 -> 0 | P13: =L13+O13 -> 1649
A14: ='ORC-S.DES'!A16 -> 2 | B14: ='ORC-S.DES'!C16 -> TERRAPLENAGEM | C14: ='ORC-S.DES'!I23 -> 955.51 | D14: =C14/$C$19 -> 0.0048818208 | E14: 1 | F14: =E14 -> 1 | G14: =C14*E14 -> 955.51 | H14: =G14 -> 955.51 | I14: 0 | J14: =F14+I14 -> 1 | K14: =C14*I14 -> 0 | L14: =H14+K14 -> 955.51 | M14: 0 | N14: =J14+M14 -> 1 | O14: =C14*M14 -> 0 | P14: =L14+O14 -> 955.51
A15: ='ORC-S.DES'!A25 -> 3 | B15: ='ORC-S.DES'!C25 -> DRENAGEM | C15: ='ORC-S.DES'!I51 -> 53693.77 | D15: =C15/$C$19 -> 0.27432823 | E15: 0.5 | F15: =E15 -> 0.5 | G15: =C15*E15 -> 26846.885 | H15: =G15 -> 26846.885 | I15: 0.5 | J15: =F15+I15 -> 1 | K15: =C15*I15 -> 26846.885 | L15: =H15+K15 -> 53693.77 | M15: 0 | N15: =J15+M15 -> 1 | O15: =C15*M15 -> 0 | P15: =L15+O15 -> 53693.77
A16: ='ORC-S.DES'!A53 -> 4 | B16: ='ORC-S.DES'!C53 -> PAVIMENTAÇÃO | C16: ='ORC-S.DES'!I57 -> 137575.55 | D16: =C16/$C$19 -> 0.70289079 | E16: 0.3 | F16: =E16 -> 0.3 | G16: =C16*E16 -> 41272.665 | H16: =G16 -> 41272.665 | I16: 0.3 | J16: =F16+I16 -> 0.6 | K16: =C16*I16 -> 41272.665 | L16: =H16+K16 -> 82545.33 | M16: 0.4 | N16: =J16+M16 -> 1 | O16: =C16*M16 -> 55030.22 | P16: =L16+O16 -> 137575.55
A17: ='ORC-S.DES'!A59 -> 6 | B17: ='ORC-S.DES'!C59 -> SINALIZAÇÃO | C17: ='ORC-S.DES'!I66 -> 1854.37 | D17: =C17/$C$19 -> 0.0094742096 | E17: 0 | F17: =E17 -> 0 | G17: =C17*E17 -> 0 | H17: =G17 -> 0 | I17: 0 | J17: =F17+I17 -> 0 | K17: =C17*I17 -> 0 | L17: =H17+K17 -> 0 | M17: 1 | N17: =J17+M17 -> 1 | O17: =C17*M17 -> 1854.37 | P17: =L17+O17 -> 1854.37
A19: TOTAL GERAL | C19: =SUM(C13:C17) -> 195728.2 | D19: =SUM(D13:D17) -> 1 | E19: =(G19/C19) -> 0.36133812 | F19: =E19 -> 0.36133812 | G19: =SUM(G13:G17) -> 70724.06 | H19: =SUM(H13:H17) -> 70724.06 | I19: =(K19/C19) -> 0.34803135 | J19: =F19+I19 -> 0.70936947 | K19: =SUM(K13:K17) -> 68119.55 | L19: =SUM(L13:L17) -> 138843.61 | M19: =(O19/C19) -> 0.29063053 | N19: =J19+M19 -> 1 | O19: =SUM(O13:O17) -> 56884.59 | P19: =SUM(P13:P17) -> 195728.2
M25: ______________________________________
O26: PREFEITURA DE ASCURRA
