Workbook

Sheet Orçamento
A1: PREFEITURA MUNICIPAL DE ASCURRA
C2: ORÇAMENTO
A3: Obra: Construção Ginásio
A4: Área: 1.670,93 m² + 124,88 (Marquise - Área Não Computável Prefeitura)
A5: Data: JANEIRO/2026 | G5: BDI composição e Insumos= | I5: 0.22
A6: ORÇAMENTO ESTIMATIVO
A7: ÍTEM | B7: REF: | C7: COD | D7: SERVIÇO | E7: QUANT | F7: UNID | G7: R$ UNIT | H7: R$ TOTAL | I7: R$totalc/BDI | J7: %OBRA
A8: 1. | D8: Serviços Iniciais
A9: 1.1 | B9: SBC | C9: 12057 | D9: Aluguel mensal de container escritorio 6,0x2,3m wc/elet.9,20m2 | E9: 12 | F9: meses | G9: 1550 | H9: =E9*G9 -> 18600 | I9: =H9*1.22 -> 22692
A10: 1.2 | B10: SBC | C10: 12059 | D10: Aluguel mensal container almoxarifado 6,0x2,4m sem sanitario | E10: 12 | F10: meses | G10: 1200 | H10: =E10*G10 -> 14400 | I10: =H10*1.22 -> 17568
A11: 1.3 | B11: SINAPI | C11: 99059 | D11: locação da obra | E11: 164.74 | F11: m | G11: 96.27 | H11: =E11*G11 -> 15859.52 | I11: =H11*1.22 -> 19348.614
A12: 1.4 | B12: SINAPI | C12: 4813 | D12: Placa da obra | E12: 2.88 | F12: m² | G12: 400 | H12: =E12*G12 -> 1152 | I12: =H12*1.22 -> 1405.44
A13: 1.5 | B13: SINAPI | C13: 90777 | D13: Engenheiro civil de obra - Junior c/ encargos | E13: 384 | F13: H | G13: 130.6 | H13: =E13*G13 -> 50150.4 | I13: =H13*1.22 -> 61183.488
D14: Total do item 1 | H14: =SUM(H9:H13) -> 100161.92 | I14: =SUM(I9:I13) -> 122197.54 | J14: =I14/$I$228 -> 0.03236594
A16: 2. | D16: Infraestrutura
A17: 2.1 | B17: ORÇAMENTO | C17: MÉDIA | D17: Estrutura galpão pre fabricado (incluso blocos da fundação, arquibancada, cobertura completa, fechamentos laterais, descida pluvial, aterramento, lajes alveolares, calhas, lanternim) | E17: 1 | F17: un | G17: 1781048.5 | H17: =E17*G17 -> 1781048.5 | I17: =H17*1.22 -> 2172879.1
A18: 2.2 | B18: SINAPI | C18: 100651 | D18: Estaca Hélice Contínua - Ø30 - Profundidade 10 m X27 X 2 | E18: 540 | F18: m | G18: 158.75 | H18: =E18*G18 -> 85725 | I18: =H18*1.22 -> 104584.5
A19: 2.3 | B19: SINAPI | C19: 96525 | D19: Escavações mecânicas | E19: 10 | F19: m³ | G19: 63.65 | H19: =E19*G19 -> 636.5 | I19: =H19*1.22 -> 776.53
A20: 2.4 | B20: SINAPI | C20: 95601 | D20: Arrasamento das estacas | E20: 54 | F20: un | G20: 21.11 | H20: =E20*G20 -> 1139.94 | I20: =H20*1.22 -> 1390.7268
A21: 2.5 | B21: SINAPI | C21: 96557 | D21: Vigas Baldrame | E21: 26.29 | F21: m³ | G21: 825.64 | H21: =E21*G21 -> 21706.076 | I21: =H21*1.22 -> 26481.412
A22: 2.6 | B22: SINAPI | C22: 96533 | D22: forma de madeira | E22: 332.59 | F22: m² | G22: 102.23 | H22: =E22*G22 -> 34000.676 | I22: =H22*1.22 -> 41480.824
A23: 2.7 | B23: SINAPI | C23: 104920 | D23: aço | E23: 1655.8 | F23: kg | G23: 11.22 | H23: =E23*G23 -> 18578.076 | I23: =H23*1.22 -> 22665.253
A24: 2.8 | B24: SINAPI | C24: 96557 | D24: concreto | E24: 66.29 | F24: m³ | G24: 825.64 | H24: =E24*G24 -> 54731.676 | I24: =H24*1.22 -> 66772.644
A25: 2.9 | B25: SINAPI | C25: 98547 | D25: Impermeabilização de baldrame | E25: 262.9 | F25: m | G25: 220.73 | H25: =E25*G25 -> 58029.917 | I25: =H25*1.22 -> 70796.499
A26: 2.10 | B26: SINAPI | C26: 103674 | D26: laje | E26: 25.22 | F26: m² | G26: 774.39 | H26: =E26*G26 -> 19530.116 | I26: =H26*1.22 -> 23826.741
A27: 2.11 | B27: SINAPI | C27: 105029 | D27: Vergas e contraverga | E27: 10.89 | F27: m | G27: 67.59 | H27: =E27*G27 -> 736.0551 | I27: =H27*1.22 -> 897.98722
A28: 2.12 | B28: SBC | C28: 31009 | D28: Mobilização/retirada equipamento/moldagem estacas "in loco" | E28: 1 | F28: un | G28: 11671.33 | H28: =E28*G28 -> 11671.33 | I28: =H28*1.22 -> 14239.023
... A30: 2.14 | B30: SBC | C30: 31431 | D30: Arrasamento mecanico de estaca concreto armado | E30: 54 | F30: un | G30: 34.55 | H30: =E30*G30 -> 1865.7 | I30: =H30*1.22 -> 2276.154
D31: Total do item 2 | H31: =SUM(H17:H30) -> 2093477.7 | I31: =SUM(I17:I30) -> 2554042.7 | J31: =I31/$I$228 -> 0.67647838
A33: 3. | D33: Paredes Interna e Paíneis
A34: 3.1 | B34: SINAPI | C34: 103318 | D34: Parede de alvenaria (tijolo 6 furos) | E34: 267 | F34: m² | G34: 117.81 | H34: =E34*G34 -> 31455.27 | I34: =H34*1.22 -> 38375.429
A35: 3.2 | B35: SINAPI | C35: 102253 | D35: Placa de granito | E35: 58.62 | F35: m² | G35: 1031.29 | H35: =E35*G35 -> 60454.22 | I35: =H35*1.22 -> 73754.148
A36: 3.3 | B36: SINAPI | C36: 102235 | D36: Divisória de vidros lisos fixos - Banheiros | E36: 23 | F36: m² | G36: 412.69 | H36: =E36*G36 -> 9491.87 | I36: =H36*1.22 -> 11580.081
A37: 3.4 | B37: ORÇAMENTO | C37: MÉDIA | D37: Divisória de vidros lisos fixos - 20 mm - Quadra + Estúdio | E37: 56.3 | F37: m² | G37: 1314.29 | H37: 77990 | I37: =H37*1.22 -> 95147.8
D38: Total ítem 3 | H38: =SUM(H34:H37) -> 179391.36 | I38: =SUM(I34:I37) -> 218857.46 | J38: =I38/$I$228 -> 0.057967839
A40: 4. | D40: Revestimentos Interno e Externo
A41: 4.1 | B41: SINAPI | C41: 87878 | D41: Chapisco aplicado em alvenaria | E41: 534 | F41: m² | G41: 5.98 | H41: =E41*G41 -> 3193.32 | I41: =H41*1.22 -> 3895.8504
A42: 4.2 | B42: SINAPI | C42: 87547 | D42: Massa única para recebimento de pintura | E42: 534 | F42: m³ | G42: 31.63 | H42: =E42*G42 -> 16890.42 | I42: =H42*1.22 -> 20606.312
A43: 4.3 | B43: SINAPI | C43: 87275 | D43: Azulejo | E43: 370.92 | F43: m² | G43: 75.71 | H43: =E43*G43 -> 28082.353 | I43: =H43*1.22 -> 34260.471
A44: 4.4 | B44: SINAPI | C44: 98689 | D44: Soleira em granito | E44: 13 | F44: m | G44: 127.99 | H44: =E44*G44 -> 1663.87 | I44: =H44*1.22 -> 2029.9214
...

Sheet Cronograma
A1: =Orçamento!A1 -> PREFEITURA MUNICIPAL DE ASCURRA
A2: =Orçamento!A3 -> Obra: Construção Ginásio | J2: =Orçamento!A5 -> Data: JANEIRO/2026
A3: =Orçamento!A4 -> Área: 1.670,93 m² + 124,88 (Marquise - Área Não Computável Prefeitura)
A4: CRONOGRAMA FÍSICO - FINANCEIRO
A6: =[1]QUANTITATIVO!A8 -> Item | C6: =[1]QUANTITATIVO!C8 -> Discriminação | D6: =[1]QUANTITATIVO!K9 -> Total | E6: 1º Mês | G6: 2º Mês | I6: 3º Mês | K6: 4º Mês | M6: 5º Mês | O6: 6º Mês | Q6: 7º Mês | S6: 8º Mês | U6: 9º Mês | W6: 10º Mês | Y6: 11º Mês | AA6: 12º Mês
E7: % | F7: R$ | G7: % | H7: R$ | I7: % | J7: R$ | K7: % | L7: R$ | M7: % | N7: R$ | O7: % | P7: R$ | Q7: % | R7: R$ | S7: % | T7: R$ | U7: % | V7: R$ | W7: % | X7: R$ | Y7: % | Z7: R$ | AA7: % | AB7: R$
A8: 1 | C8: =Orçamento!D8 -> Serviços Iniciais | D8: =Orçamento!I14 -> 122197.54 | E8: 1 | F8: =IF(E8,$D8*E8, ) -> 122197.54
A9: 2 | C9: =Orçamento!D16 -> Infraestrutura | D9: =Orçamento!I31 -> 2554042.7 | G9: 0.2 | H9: =IF(G9,$D9*G9, ) -> 510808.55 | I9: 0.2 | J9: =IF(I9,$D9*I9, ) -> 510808.55 | K9: 0.3 | L9: =IF(K9,$D9*K9, ) -> 766212.82 | M9: 0.3 | N9: =IF(M9,$D9*M9, ) -> 766212.82
A10: 3 | C10: =Orçamento!D33 -> Paredes Interna e Paíneis | D10: =Orçamento!I38 -> 218857.46 | O10: 0.5 | P10: =IF(O10,$D10*O10, ) -> 109428.73 | Q10: 0.5 | R10: =IF(Q10,$D10*Q10, ) -> 109428.73
A11: 4 | C11: =Orçamento!D40 -> Revestimentos Interno e Externo | D11: =Orçamento!I47 -> 85130.047 | O11: 0.5 | P11: =IF(O11,$D11*O11, ) -> 42565.024 | Q11: 0.5 | R11: =IF(Q11,$D11*Q11, ) -> 42565.024
A12: 5 | C12: =Orçamento!D49 -> Esquadrias | D12: =Orçamento!I61 -> 82597.182 | Q12: 0.5 | R12: =IF(Q12,$D12*Q12, ) -> 41298.591 | S12: 0.5 | T12: =IF(S12,$D12*S12, ) -> 41298.591
A13: 6 | C13: =Orçamento!D64 -> Pintura | D13: =Orçamento!I75 -> 113893.57 | U13: 1 | V13: =IF(U13,$D13*U13, ) -> 113893.57
A14: 7 | C14: =Orçamento!D77 -> Pavimentação | D14: =Orçamento!I88 -> 356127.58 | S14: 0.5 | T14: =IF(S14,$D14*S14, ) -> 178063.79 | U14: 0.5 | V14: =IF(U14,$D14*U14, ) -> 178063.79
A15: 8 | C15: =Orçamento!D90 -> Instalações Elétrica | D15: =Orçamento!I121 -> 86159.56 | Y15: 1 | Z15: =IF(Y15,$D15*Y15, ) -> 86159.56
A16: 9 | C16: =Orçamento!D123 -> Instalações Hidraulicas | D16: =Orçamento!I172 -> 41684.628 | W16: 1 | X16: =IF(W16,$D16*W16, ) -> 41684.628
A17: 10 | C17: =Orçamento!D174 -> Instalações Sanitárias | D17: =Orçamento!I200 -> 24739.391 | Q17: 0.5 | R17: =IF(Q17,$D17*Q17, ) -> 12369.696 | S17: 0.5 | T17: =IF(S17,$D17*S17, ) -> 12369.696
A18: 11 | C18: =Orçamento!D202 -> Instalações Preventivas de incêndio | D18: =Orçamento!I220 -> 65386.253 | U18: 0.5 | V18: =IF(U18,$D18*U18, ) -> 32693.126 | W18: 0.5 | X18: =IF(W18,$D18*W18, ) -> 32693.126
A19: 12 | C19: =Orçamento!D222 -> Complementação da obra | D19: =Orçamento!I227 -> 24682.011 | AA19: 1 | AB19: =IF(AA19,$D19*AA19, ) -> 24682.011
A20: TOTAL - MÊS | D20: =SUM(D8:D19) -> 3775498 | E20: =F20/$D20 -> 0.03236594 | F20: =SUM(F8:F19) -> 122197.54 | G20: =H20/$D20 -> 0.13529568 | H20: =SUM(H8:H19) -> 510808.55 | I20: =J20/$D20 -> 0.13529568 | J20: =SUM(J8:J19) -> 510808.55 | K20: =L20/$D20 -> 0.20294351 | L20: =SUM(L8:L19) -> 766212.82 | M20: =N20/$D20 -> 0.20294351 | N20: =SUM(N8:N19) -> 766212.82 | O20: =P20/$D20 -> 0.040257935 | P20: =SUM(P8:P19) -> 151993.75 | Q20: =R20/$D20 -> 0.054472825 | R20: =SUM(R8:R19) -> 205662.04 | S20: =T20/$D20 -> 0.061377884 | T20: =SUM(T8:T19) -> 231732.07 | U20: =V20/$D20 -> 0.085988784 | V20: =SUM(V8:V19) -> 324650.48 | W20: =X20/$D20 -> 0.019700118 | X20: =SUM(X8:X19) -> 74377.755 | Y20: =Z20/$D20 -> 0.022820714 | Z20: =SUM(Z8:Z19) -> 86159.56 | AA20: =AB20/$D20 -> 0.0065374187 | AB20: =SUM(AB8:AB19) -> 24682.011
A21: TOTAL - ACUMULADO | D21: =D20 -> 3775498 | E21: =F21/D21 -> 0.03236594 | F21: =F20 -> 122197.54 | G21: =H21/D21 -> 0.16766162 | H21: =F21+H20 -> 633006.09 | I21: =J21/D21 -> 0.30295729 | J21: =H21+J20 -> 1143814.6 | K21: =L21/D21 -> 0.50590081 | L21: =J21+L20 -> 1910027.5 | M21: =N21/D21 -> 0.70884432 | N21: =L21+N20 -> 2676240.3 | O21: =P21/D21 -> 0.74910226 | P21: =N21+P20 -> 2828234 | Q21: =R21/D21 -> 0.80357508 | R21: =P21+R20 -> 3033896.1 | S21: =T21/D21 -> 0.86495296 | T21: =R21+T20 -> 3265628.2 | U21: =V21/D21 -> 0.95094175 | V21: =T21+V20 -> 3590278.6 | W21: =X21/D21 -> 0.97064187 | X21: =V21+X20 -> 3664656.4 | Y21: =Z21/D21 -> 0.99346258 | Z21: =X21+Z20 -> 3750815.9 | AA21: =AB21/D21 -> 1 | AB21: =Z21+AB20 -> 3775498
